Workbook

Sheet 战机整理
A1: 战机名称 | B1: 战术 | C1: 插槽 | D1: 交战范围 | E1: 联队 | F1: 更换时间 | G1: 护盾 | H1: 装甲 | I1: 结构 | J1: 幅能容量 | K1: 幅能耗散 | L1: 航速 | M1: EMP伤害 | N1: 破盾效率 | O1: 洗结构效率 | P1: 破 | Q1: 500 | R1: 幅能 | S1: 1000 | T1: 幅能 | U1: 1500 | V1: 幅能 | W1: 2000 | X1: 幅能 | Y1: 军备
A2: 冥蜂无人机 | B2: 无 | C2: 无 | D2: 2000 | E2: 6 | F2: 5 | G2: 无 | H2: 25 | I2: 200 | J2: 200 | K2: 100 | L2: 100 | M2: =战机武器!E2*战机整理!$E2*1 -> 0 | N2: =战机武器!F2*战机整理!$E2*1 -> 180 | O2: =战机武器!G2*战机整理!$E2*1 -> 180 | P2: 甲 | Q2: 16.6 | R2: 996 | S2: 45.6 | T2: 2736 | U2: 77.1 | V2: 4626 | W2: 111.1 | X2: 6666 | Y2: 钻探激光炮*1
A3: 利爪截击机 | B3: 无 | C3: 无 | D3: 4000 | E3: 4 | F3: 5 | G3: 无 | H3: 25 | I3: 200 | J3: 400 | K3: 100 | L3: 325 | M3: =(战机武器!E3+战机武器!E4)*$E3*1 -> 0 | N3: =(战机武器!F3+战机武器!F4)*$E3*1 -> 576.92308 | O3: =(战机武器!G3+战机武器!G4)*$E3*1 -> 2153.8462 | P3: 时 | Q3: 12.27 | R3: 514 | S3: 31.53 | T3: 1067 | U3: 54.45 | V3: 1600 | W3: 78.02 | X3: 2134 | Y3: 火神炮*1 | Z3: 蜂群SRM发射器*1
A4: 火花无人截击机 | B4: 无 | C4: 无 | D4: 4000 | E4: 5 | F4: 10 | G4: 全盾 | H4: 20 | I4: 300 | J4: 150 | K4: 50 | L4: 335 | M4: =战机武器!E5*战机整理!$E4*1 -> 0 | N4: =战机武器!F5*战机整理!$E4*1 -> 431.81818 | O4: =战机武器!G5*战机整理!$E4*1 -> 431.81818 | P4: 间 | Q4: 4.3 | R4: 1763 | S4: 12.2 | T4: 5002 | U4: 23.3 | V4: 9553 | W4: 35.3 | X4: 14473 | Y4: 瞬发PD激光炮(战机型)*1
A5: 黄蜂无人截击机 | B5: 无 | C5: 无 | D5: 4000 | E5: 6 | F5: 5 | G5: 无 | H5: 10 | I5: 100 | J5: 500 | K5: 100 | L5: 325 | M5: =(战机武器!E6+战机武器!E7)*$E5*1 -> 0 | N5: =(战机武器!F6+战机武器!F7)*$E5*1 -> 1200 | O5: =(战机武器!G6+战机武器!G7)*$E5*1 -> 3450 | P5: 和 | Q5: 3.64 | R5: 492 | S5: 10.59 | T5: 1380 | U5: 19.52 | V5: 2664 | W5: 29.02 | X5: 4044 | Y5: PD激光炮*1 | Z5: 毒刺级感应空雷*1
A6: 三叉戟鱼雷轰炸机 | B6: 无 | C6: 无 | D6: 4000 | E6: 2 | F6: 25 | G6: 全盾 | H6: 25 | I6: 500 | J6: 500 | K6: 50 | L6: 130 | M6: =战机武器!E8*战机整理!$E6*2 -> 0 | N6: =战机武器!F8*战机整理!$E6*2 -> 2000 | O6: =战机武器!G8*战机整理!$E6*2 -> 4000 | P6: 累 | Q6: 0 | R6: 0 | S6: 0.5 | T6: 0 | U6: 1 | V6: 0 | W6: 1.5 | X6: 0 | Y6: 阿特罗波斯鱼雷(单发)*2
A7: 匕首鱼雷轰炸机 | B7: 无 | C7: 无 | D7: 4000 | E7: 3 | F7: 18 | G7: 全盾 | H7: 10 | I7: 300 | J7: 200 | K7: 50 | L7: 175 | M7: =战机武器!E8*战机整理!$E7*1 -> 0 | N7: =战机武器!F8*战机整理!$E7*1 -> 1500 | O7: =战机武器!G8*战机整理!$E7*1 -> 3000 | P7: 积 | Q7: 0 | R7: 0 | S7: 0.33 | T7: 0 | U7: 0.67 | V7: 0 | W7: 1 | X7: 0 | Y7: 阿特罗波斯鱼雷(单发)*1
A8: 堕落鱼雷轰炸机 | B8: 无 | C8: 无 | D8: 4000 | E8: 3 | F8: 15 | G8: 无 | H8: 50 | I8: 400 | J8: 50 | K8: 10 | L8: 140 | M8: =战机武器!E9*战机整理!$E8*1 -> 0 | N8: =战机武器!F9*战机整理!$E8*1 -> 2250 | O8: =战机武器!G9*战机整理!$E8*1 -> 4500 | P8: 幅 | Q8: 0 | R8: 0 | S8: 0 | T8: 0 | U8: 0.33 | V8: 0 | W8: 0.33 | X8: 0 | Y8: 大锤鱼类(单发)*1
A9: 眼镜蛇鱼雷轰炸机 | B9: 无 | C9: 无 | D9: 4000 | E9: 1 | F9: 20 | G9: 全盾 | H9: 25 | I9: 400 | J9: 400 | K9: 50 | L9: 160 | M9: =战机武器!E10*战机整理!$E9*1 -> 0 | N9: =战机武器!F10*战机整理!$E9*1 -> 400 | O9: =战机武器!G10*战机整理!$E9*1 -> 800 | P9: 能 | Q9: 0 | R9: 0 | S9: 0 | T9: 0 | U9: 0 | V9: 0 | W9: 0 | X9: 0 | Y9: 死神鱼雷*1
A10: 镰状剑火箭轰炸机 | B10: 无 | C10: 无 | D10: 4000 | E10: 2 | F10: 15 | G10: 无 | H10: 75 | I10: 500 | J10: 500 | K10: 100 | L10: 180 | M10: =战机武器!E11*战机整理!$E10*2 -> 0 | N10: =战机武器!F11*战机整理!$E10*2 -> 4000 | O10: =战机武器!G11*战机整理!$E10*2 -> 8000 | Q10: 0.15 | R10: 0 | S10: 0.45 | T10: 0 | U10: 0.9 | V10: 0 | W10: 1.4 | X10: 0 | Y10: 歼灭者火箭发射器*2
A11: 长弓动能轰炸机 | B11: 无 | C11: 无 | D11: 4000 | E11: 2 | F11: 18 | G11: 全盾 | H11: 10 | I11: 300 | J11: 100 | K11: 50 | L11: 200 | M11: =(战机武器!E12+战机武器!E13)*$E11*1 -> 2000 | N11: =(战机武器!F12+战机武器!F13)*$E11*1 -> 4426.6667 | O11: =(战机武器!G12+战机武器!G13)*$E11*1 -> 2426.6667 | Q11: 9.2 | R11: 585 | S11: 26 | T11: 1663 | U11: 45.7 | V11: 3179 | W11: 66.55 | X11: 4802 | Y11: 瞬发PD 激光炮*1 | Z11: 赛博SRM(单发)*1
A12: 闪光空雷无人轰炸机 | B12: 无 | C12: 无 | D12: 4000 | E12: 4 | F12: 18 | G12: 全盾 | H12: 60 | I12: 400 | J12: 350 | K12: 50 | L12: 170 | M12: =战机武器!E14*战机整理!$E12*1 -> 0 | N12: =战机武器!F14*战机整理!$E12*1 -> 666.66667 | O12: =战机武器!G14*战机整理!$E12*1 -> 1333.3333 | Q12: 0.38 | R12: 0 | S12: 1.13 | T12: 0 | U12: 1.88 | V12: 0 | W12: 2.63 | X12: 0 | Y12: 感应空雷发射器(战机型)*1
A13: 食人鱼轰炸机 | B13: 无 | C13: 无 | D13: 4000 | E13: 3 | F13: 15 | G13: 无 | H13: 75 | I13: 500 | J13: 200 | K13: 100 | L13: 150 | M13: =战机武器!E15*战机整理!$E13*1 -> 0 | N13: =战机武器!F15*战机整理!$E13*1 -> 600 | O13: =战机武器!G15*战机整理!$E13*1 -> 1200 | Q13: 0.33 | R13: 0 | S13: 1 | T13: 0 | U13: 2 | V13: 0 | W13: 3 | X13: 0 | Y13: 标准炸弹发射架*1
A14: 勒克斯重型无人机 | B14: 诱饵 | C14: 无 | D14: 4000 | E14: 4 | F14: 15 | G14: 全盾 | H14: 60 | I14: 400 | J14: 350 | K14: 50 | L14: 220 | M14: =战机武器!E16*战机整理!$E14*1 -> 0 | N14: =战机武器!F16*战机整理!$E14*1 -> 298.50746 | O14: =战机武器!G16*战机整理!$E14*1 -> 298.50746 | Q14: 13.23 | R14: 4000 | S14: 32.5 | T14: 9750 | U14: 54.44 | V14: 16300 | W14: 77.55 | X14: 23200 | Y14: IR脉冲激光炮(战机型)*1
A15: 挖矿辅助无人机 | B15: 无 | C15: 无 | D15: 0 | E15: 4 | F15: 10 | G15: 无 | H15: 150 | I15: 600 | J15: 150 | K15: 100 | L15: 125 | M15: =战机武器!E2*战机整理!$E15*1 -> 0 | N15: =战机武器!F2*战机整理!$E15*1 -> 120 | O15: =战机武器!G2*战机整理!$E15*1 -> 120 | Q15: 30.8 | R15: 1232 | S15: 77.1 | T15: 3084 | U15: 129 | V15: 5160 | W15: 185.7 | X15: 7428 | Y15: 钻探激光炮*1
A16: 疣猪突击战斗机 | B16: 诱饵 | C16: 无 | D16: 2000 | E16: 3 | F16: 10 | G16: 无 | H16: 200 | I16: 750 | J16: 200 | K16: 50 | L16: 130 | M16: =战机武器!E17*战机整理!$E16*2 -> 0 | N16: =战机武器!F17*战机整理!$E16*2 -> 225 | O16: =战机武器!G17*战机整理!$E16*2 -> 450 | Q16: 5 | R16: 800 | S16: 14.67 | T16: 2250 | U16: 26.33 | V16: 4000 | W16: 38.67 | X16: 5850 | Y16: 轻型迫击炮*2
A17: 短剑战斗机 | B17: 诱饵(单发) | C17: 无 | D17: 4000 | E17: 2 | F17: 10 | G17: 无 | H17: 75 | I17: 500 | J17: 200 | K17: 50 | L17: 300 | M17: =(战机武器!E16*1+战机武器!E18*2)*$E17 -> 0 | N17: =(战机武器!F16*1+战机武器!F18*2)*$E17 -> 1399.2537 | O17: =(战机武器!G16*1+战机武器!G18*2)*$E17 -> 774.25373 | Q17: 132.29 | R17: 2261 | S17: 295.26 | T17: 5304 | U17: 462.69 | V17: 8633 | W17: 620.5 | X17: 6402 | Y17: IR脉冲激光炮(战机型)*1 | Z17: 轻机枪*2
A18: 钩爪支援战斗机 | B18: 无 | C18: 无 | D18: 4000 | E18: 5 | F18: 8 | G18: 全盾 | H18: 25 | I18: 300 | J18: 150 | K18: 50 | L18: 275 | M18: =战机武器!E19*战机整理!$E18*1 -> 2000 | N18: =战机武器!F19*战机整理!$E18*1 -> 125 | O18: =战机武器!G19*战机整理!$E18*1 -> 125 | Q18: 38.8 | R18: 5850 | S18: 92.6 | T18: 13920 | U18: 148.4 | V18: 22290 | W18: 205.2 | X18: 30810 | Y18: 离子炮(战机型)*1
A19: 阔剑重型战斗机 | B19: 诱饵 | C19: 无 | D19: 4000 | E19: 3 | F19: 10 | G19: 无 | H19: 100 | I19: 750 | J19: 80 | K19: 10 | L19: 200 | M19: =战机武器!E18*战机整理!$E19*2 -> 0 | N19: =战机武器!F18*战机整理!$E19*2 -> 1875 | O19: =战机武器!G18*战机整理!$E19*2 -> 937.5 | Q19: 123.47 | R19: 1392 | S19: 273.6 | T19: 3081 | U19: 426.4 | V19: 4800 | W19: 568.8 | X19: 6402 | Y19: 轻机枪*2
A20: 雷霆重型战斗机 | B20: 无 | C20: 无 | D20: 6000 | E20: 2 | F20: 15 | G20: 无 | H20: 75 | I20: 500 | J20: 750 | K20: 100 | L20: 450 | M20: =(战机武器!E19+战机武器!E4+战机武器!E20)*战机整理!$E20*1 -> 800 | N20: =(战机武器!F19+战机武器!F4+战机武器!F20)*战机整理!$E20*1 -> 921.79487 | O20: =(战机武器!G19+战机武器!G4+战机武器!G20)*战机整理!$E20*1 -> 543.58974 | Q20: 86.43 | R20: 2414 | S20: 204.03 | T20: 5667 | U20: 329.5 | V20: 9030 | W20: 452.77 | X20: 12404 | Y20: 离子炮(战机型)*1 | Z20: 蜂群SRM发射器*1 | AA20: 轻型双管机枪*1
A21: 希腊剑支援战斗机 | B21: 无 | C21: 先进光学器件 | D21: 0 | E21: 2 | F21: 15 | G21: 全盾 | H21: 50 | I21: 450 | J21: 600 | K21: 50 | L21: 160 | M21: =(战机武器!E12+战机武器!E21)*战机整理!$E21*1 -> 800 | N21: =(战机武器!F12+战机武器!F21)*战机整理!$E21*1 -> 526.66667 | O21: =(战机武器!G12+战机武器!G21)*战机整理!$E21*1 -> 526.66667 | Q21: 22 | R21: 8505 | S21: 54.85 | T21: 21103 | U21: 93.35 | V21: 35739 | W21: 133.85 | X21: 51122 | Y21: 瞬发PD激光炮*1 | Z21: 离子束*1
A22: 终结者无人机 | B22: 无 | C22: 终结者核心 | D22: 0 | E22: 2 | F22: 20 | G22: 无 | H22: 100 | I22: 500 | J22: 200 | K22: 50 | L22: 300 | M22: =(战机武器!E22+战机武器!E6)*战机整理!$E22*1 -> 0 | N22: =(战机武器!F22+战机武器!F6)*战机整理!$E22*1 -> 453.0303 | O22: =(战机武器!G22+战机武器!G6)*战机整理!$E22*1 -> 453.0303 | Q22: 26.9 | R22: 2488 | S22: 67.75 | T22: 6216 | U22: 113.6 | V22: 10408 | W22: 162.65 | X22: 14884 | Y22: IR脉冲激光炮*1 | Z22: PD激光炮*1

Sheet 战机武器
A1: 装备名称 | B1: 伤害类型 | C1: 伤害 | D1: 重装时间 | E1: EMP伤害 | F1: 破盾效率 | G1: 洗结构效率 | H1: 破 | I1: 500 | J1: 幅能 | K1: 1000 | L1: 幅能 | M1: 1500 | N1: 幅能 | O1: 2000 | P1: 幅能
A2: 钻探激光炮 | B2: 能量 | C2: 30 | D2: 1 | E2: 0 | F2: =IF(B2="高爆",0.5,IF(B2="动能",2,IF(B2="破片",0.25,1)))*C2/D2 -> 30 | G2: =C2/D2 -> 30 | H2: 甲 | I2: 185.7 | J2: 1857 | K2: 418.3 | L2: 4183 | M2: —— | N2: —— | O2: —— | P2: ——
A3: 火神炮 | B3: 破片 | C3: 25 | D3: 0.05 | E3: 0 | F3: =IF(B3="高爆",0.5,IF(B3="动能",2,IF(B3="破片",0.25,1)))*C3/D3 -> 125 | G3: =C3/D3 -> 500 | H3: 时 | I3: 51.3 | J3: 1027 | K3: 106.65 | L3: 2134 | M3: 159.95 | N3: 3200 | O3: 213.3 | P3: 4267
A4: 蜂群SRM发射器 | B4: 高爆 | C4: 200 | D4: 5.2 | E4: 0 | F4: =IF(B4="高爆",0.5,IF(B4="动能",2,IF(B4="破片",0.25,1)))*C4/D4 -> 19.230769 | G4: =C4/D4 -> 38.461538 | H4: 间 | I4: 46.8 | J4: 0 | K4: 145.6 | L4: 0 | M4: 275.6 | N4: 0 | O4: 410.8 | P4: 0
A5: 瞬发PD激光炮(战机型) | B5: 能量 | C5: 95 | D5: 1.1 | E5: 0 | F5: =IF(B5="高爆",0.5,IF(B5="动能",2,IF(B5="破片",0.25,1)))*C5/D5 -> 86.363636 | G5: =C5/D5 -> 86.363636 | I5: 47.7 | J5: 3911 | K5: 155.9 | L5: 9504 | M5: 193.6 | N5: 15875 | O5: 273.1 | P5: 22394
A6: PD激光炮 | B6: 能量 | C6: 75 | D6: 1 | E6: 0 | F6: =IF(B6="高爆",0.5,IF(B6="动能",2,IF(B6="破片",0.25,1)))*C6/D6 -> 75 | G6: =C6/D6 -> 75 | I6: 57.9 | J6: 2316 | K6: 140.1 | L6: 5604 | M6: 231.6 | N6: 9264 | O6: 324.4 | P6: 12976
A7: 毒刺级感应空雷 | B7: 破片 | C7: 500 | D7: 1 | E7: 0 | F7: =IF(B7="高爆",0.5,IF(B7="动能",2,IF(B7="破片",0.25,1)))*C7/D7 -> 125 | G7: =C7/D7 -> 500 | I7: 19 | J7: 0 | K7: 58 | L7: 0 | M7: 101 | N7: 0 | O7: 146 | P7: 0
A8: 阿特罗波斯鱼雷(单发) | B8: 高爆 | C8: 1000 | D8: 1 | E8: 0 | F8: =IF(B8="高爆",0.5,IF(B8="动能",2,IF(B8="破片",0.25,1)))*C8/D8 -> 500 | G8: =C8/D8 -> 1000 | I8: 0 | J8: 0 | K8: 1 | L8: 0 | M8: 2 | N8: 0 | O8: 3 | P8: 0
A9: 大锤级鱼雷(单发) | B9: 高爆 | C9: 1500 | D9: 1 | E9: 0 | F9: =IF(B9="高爆",0.5,IF(B9="动能",2,IF(B9="破片",0.25,1)))*C9/D9 -> 750 | G9: =C9/D9 -> 1500 | I9: 0 | J9: 0 | K9: 0 | L9: 0 | M9: 1 | N9: 0 | O9: 1 | P9: 0
A10: 死神鱼雷 | B10: 高爆 | C10: 4000 | D10: 5 | E10: 0 | F10: =IF(B10="高爆",0.5,IF(B10="动能",2,IF(B10="破片",0.25,1)))*C10/D10 -> 400 | G10: =C10/D10 -> 800 | I10: 0 | J10: 0 | K10: 0 | L10: 0 | M10: 0 | N10: 0 | O10: 0 | P10: 0
A11: 歼灭者火箭发射器 | B11: 高爆 | C11: 200 | D11: 0.1 | E11: 0 | F11: =IF(B11="高爆",0.5,IF(B11="动能",2,IF(B11="破片",0.25,1)))*C11/D11 -> 1000 | G11: =C11/D11 -> 2000 | I11: 0.3 | J11: 0 | K11: 0.9 | L11: 0 | M11: 1.8 | N11: 0 | O11: 2.8 | P11: 0
A12: 瞬发PD激光炮 | B12: 能量 | C12: 128 | D12: 0.6 | E12: 0 | F12: =IF(B12="高爆",0.5,IF(B12="动能",2,IF(B12="破片",0.25,1)))*C12/D12 -> 213.33333 | G12: =C12/D12 -> 213.33333 | I12: 12.5 | J12: 1663 | K12: 36.1 | L12: 4801 | M12: 61.7 | N12: 8206 | O12: 89.2 | P12: 11864
A13: 赛博SRM(单发) | B13: 动能 | C13: 1000 | D13: 1 | E13: 1000 | F13: =IF(B13="高爆",0.5,IF(B13="动能",2,IF(B13="破片",0.25,1)))*C13/D13 -> 2000 | G13: =C13/D13 -> 1000 | I13: 28 | J13: 0 | K13: 79 | L13: 0 | M13: 135 | N13: 0 | O13: 194 | P13: 0
A14: 感应空雷发射器(战机型) | B14: 高爆 | C14: 500 | D14: 1.5 | E14: 0 | F14: =IF(B14="高爆",0.5,IF(B14="动能",2,IF(B14="破片",0.25,1)))*C14/D14 -> 166.66667 | G14: =C14/D14 -> 333.33333 | I14: 1.5 | J14: 0 | K14: 4.5 | L14: 0 | M14: 7.5 | N14: 0 | O14: 10.5 | P14: 0
A15: 标准炸弹发射架 | B15: 高爆 | C15: 400 | D15: 1 | E15: 0 | F15: =IF(B15="高爆",0.5,IF(B15="动能",2,IF(B15="破片",0.25,1)))*C15/D15 -> 200 | G15: =C15/D15 -> 400 | I15: 1 | J15: 0 | K15: 3 | L15: 0 | M15: 6 | N15: 0 | O15: 9 | P15: 0
A16: IR脉冲激光炮(战机型) | B16: 能量 | C16: 50 | D16: 0.67 | E16: 0 | F16: =IF(B16="高爆",0.5,IF(B16="动能",2,IF(B16="破片",0.25,1)))*C16/D16 -> 74.626866 | G16: =C16/D16 -> 74.626866 | I16: 52.93 | J16: 4000 | K16: 129.98 | L16: 9750 | M16: 217.75 | N16: 16300 | O16: 310.21 | P16: 23200
... A20: 轻型双管机枪 | B20: 动能 | C20: 125 | D20: 0.6 | E20: 0 | F20: =IF(B20="高爆",0.5,IF(B20="动能",2,IF(B20="破片",0.25,1)))*C20/D20 -> 416.66667 | G20: =C20/D20 -> 208.33333 | I20: 277.8 | J20: 1392 | K20: 615.6 | L20: 3081 | M20: 959.4 | N20: 4800 | O20: 1279.8 | P20: 64022
A21: 离子束 | B21: 能量 | C21: 50 | D21: 1 | E21: 400 | F21: =IF(B21="高爆",0.5,IF(B21="动能",2,IF(B21="破片",0.25,1)))*C21/D21 -> 50 | G21: =C21/D21 -> 50 | I21: 97.2 | J21: 19440 | K21: 231.6 | L21: 46320 | M21: 371.2 | N21: 74240 | O21: —— | P21: ——
A22: IR脉冲激光炮 | B22: 能量 | C22: 50 | D22: 0.33 | E22: 0 | F22: =IF(B22="高爆",0.5,IF(B22="动能",2,IF(B22="破片",0.25,1)))*C22/D22 -> 151.51515 | G22: =C22/D22 -> 151.51515 | I22: 26.07 | J22: 3200 | K22: 64.02 | L22: 7800 | M22: 107.25 | N22: 13040 | O22: 152.79 | P22: 10680
